BEGIN:VCALENDAR
VERSION:2.0
PRODID:-//Tukios.com/
BEGIN:VEVENT
UID:3bd5e67d-0eea-4dab-abf6-1e0087a63649@www.fieldsfh.com
DTSTAMP:20260424T004520Z
DTSTART:20260425T150000Z
DTEND:20260425T160000Z
SUMMARY:Funeral Service
DESCRIPTION:
URL:https://www.fieldsfh.com/obituaries/huey-nora
LOCATION: 712 Center Street  New Iberia LA 70560
GEO:29.9984447;-91.8230565
END:VEVENT
END:VCALENDAR